BEGIN:VCALENDAR
VERSION:2.0
PRODID:-//Exibart Street - ECPv5.1.6//NONSGML v1.0//EN
CALSCALE:GREGORIAN
METHOD:PUBLISH
X-WR-CALNAME:Exibart Street
X-ORIGINAL-URL:https://www.exibartstreet.com
X-WR-CALDESC:Events for Exibart Street
BEGIN:VTIMEZONE
TZID:Europe/Rome
BEGIN:DAYLIGHT
TZOFFSETFROM:+0100
TZOFFSETTO:+0200
TZNAME:CEST
DTSTART:20200329T010000
END:DAYLIGHT
BEGIN:STANDARD
TZOFFSETFROM:+0200
TZOFFSETTO:+0100
TZNAME:CET
DTSTART:20201025T010000
END:STANDARD
END:VTIMEZONE
BEGIN:VEVENT
DTSTART;TZID=Europe/Rome:20201204T140000
DTEND;TZID=Europe/Rome:20201206T180000
DTSTAMP:20260419T225746
CREATED:20201202T221403Z
LAST-MODIFIED:20201202T221415Z
UID:52055-1607090400-1607277600@www.exibartstreet.com
SUMMARY:Miami Street Photography Festival 2020
DESCRIPTION:MSPF is an international street photography festival showcasing the best of contemporary street and documentary photography.\nEstablished in 2012 and hosted every December during Art Basel week\, it is the largest and leading street photography festival in the world.\n​\nMSPF also offers street photography workshops all year round with the best photographers in the genre\, online and in cities around the world.\n​\nDue to the global pandemic\, we are hosting the 2020 edition online with exciting new content streamed live on Youtube Channel.
URL:https://www.exibartstreet.com/event/miami-street-photography-festival-2020/
LOCATION:HistoryMiami Museum\, 101 West Flagler Street\, Miami\, FL\, 33130\, United States
ATTACH;FMTTYPE=image/jpeg:https://www.exibartstreet.com/wp-content/uploads/2020/12/miami-street-photography-festival-2020-exibart-street-photography-00.jpg
ORGANIZER;CN="Juan%20Jose%20Reyes":MAILTO:jjreyes@miamistreetphotographyfestival.org
END:VEVENT
END:VCALENDAR