BEGIN:VCALENDAR
VERSION:2.0
PRODID:-//Exibart Street - ECPv5.1.6//NONSGML v1.0//EN
CALSCALE:GREGORIAN
METHOD:PUBLISH
X-WR-CALNAME:Exibart Street
X-ORIGINAL-URL:https://www.exibartstreet.com
X-WR-CALDESC:Events for Exibart Street
BEGIN:VTIMEZONE
TZID:Europe/Rome
BEGIN:DAYLIGHT
TZOFFSETFROM:+0100
TZOFFSETTO:+0200
TZNAME:CEST
DTSTART:20190331T010000
END:DAYLIGHT
BEGIN:STANDARD
TZOFFSETFROM:+0200
TZOFFSETTO:+0100
TZNAME:CET
DTSTART:20191027T010000
END:STANDARD
END:VTIMEZONE
BEGIN:VEVENT
DTSTART;TZID=Europe/Rome:20190912T080000
DTEND;TZID=Europe/Rome:20190921T170000
DTSTAMP:20260420T094805
CREATED:20190725T155300Z
LAST-MODIFIED:20190725T155300Z
UID:7599-1568275200-1569085200@www.exibartstreet.com
SUMMARY:Tbilisi Photo Festival 2019
DESCRIPTION:Tbilisi Photo Festival was co-founded by French photographer\, currently Photo Editor in chief at the French daily newspaper Liberation\, Lionel Charrier and the Georgian photo curator and journalist Nestan Nijaradze. It was first launched in 2010\, in partnership with Les Rencontres d’Arles. Eight editions later it has become not only the most important photo festival in the region but one of the major annual cultural events in the Caucasus. \nThe Festival aims to be a central meeting point for photography from different regions – Asia\, Iran\, Turkey\, Europe\, the Arab world – and to showcase the best of world photography; as well as to promote emerging regional photography.  \nWith upcoming 10th edition\, Tbilisi Photo Festival will firmely establish Tbilisi as capital of photography of the Caucasus.
URL:https://www.exibartstreet.com/event/tbilisi-photo-festival-2019/
LOCATION:Tbilisi Photo Festival\, Paliashvili str 49\, Tbilisi\, Georgia
ATTACH;FMTTYPE=image/jpeg:https://www.exibartstreet.com/wp-content/uploads/2019/07/tbilisi-photo-festival-2019-exibart-street-photography.jpg
END:VEVENT
BEGIN:VEVENT
DTSTART;TZID=Europe/Rome:20190919T080000
DTEND;TZID=Europe/Rome:20190922T170000
DTSTAMP:20260420T094805
CREATED:20190903T134239Z
LAST-MODIFIED:20200203T164127Z
UID:8240-1568880000-1569171600@www.exibartstreet.com
SUMMARY:Aussie Street Photography Festival 2019
DESCRIPTION:After a tremendously successful inaugural event in 2018\, AUSSIE STREET is pleased to announce that it will return in 2019 for an international festival to be held in Sydney. With both local and international competitions\, exhibitions\, artist-talks\, and workshops planned\, AUSSIE STREET will bring Australian Street photography to the world’s stage by connecting local and international street photography communities. The festival will mark AUSSIE STREET’s place among the growing global calendar of events that celebrate and promote street photography.
URL:https://www.exibartstreet.com/event/aussie-street-photography-festival/
LOCATION:Comber Street Studios\, 5 Comber Street\, Paddington\, Australia
ATTACH;FMTTYPE=image/jpeg:https://www.exibartstreet.com/wp-content/uploads/2019/09/aussiestreet-2019-exibart-street-photography-00.jpg
END:VEVENT
BEGIN:VEVENT
DTSTART;TZID=Europe/Rome:20190919T080000
DTEND;TZID=Europe/Rome:20190922T170000
DTSTAMP:20260420T094805
CREATED:20191028T104521Z
LAST-MODIFIED:20191028T104537Z
UID:15750-1568880000-1569171600@www.exibartstreet.com
SUMMARY:Leica Street Photography Festival 2019
DESCRIPTION:Shanghai\, September 19\, 2019. Leica Camera and the Jing’an Kerry Centre in Shanghai jointly presented the Leica Street Photography Festival\, which will bring a four-day image feast from September 19th to 22nd – Alan Schaller\, a British street photographer\, and Noguchi\, a Japanese photographer. Noguchi and Chinese photographer Liu Tao bring street photography to show their respective urban styles; three Chinese new generation photographers Zhu Mo\, Tang Ting\, and DJ Forget will also speak for contemporary street culture; more selected from the majority of Leica camera users More than forty street photography works to pay tribute to the local good life. \nThis time-limited Leica Gallery is located in Art Gallery 63\, An Yi Road. Entering this quaint historic building\, it is a visually striking “three contemporary photographers from different parts of the world”. Street Masters’ exhibition.
URL:https://www.exibartstreet.com/event/leica-street-photography-festival-2019/
LOCATION:Art Gallery 63\, An Yi Road\, Shanghai\, China
ATTACH;FMTTYPE=image/jpeg:https://www.exibartstreet.com/wp-content/uploads/2019/10/leica-street-photography-festival-19.jpg
END:VEVENT
END:VCALENDAR