BEGIN:VCALENDAR
VERSION:2.0
PRODID:-//Exibart Street - ECPv5.1.6//NONSGML v1.0//EN
CALSCALE:GREGORIAN
METHOD:PUBLISH
X-WR-CALNAME:Exibart Street
X-ORIGINAL-URL:https://www.exibartstreet.com
X-WR-CALDESC:Events for Exibart Street
BEGIN:VTIMEZONE
TZID:Europe/Rome
BEGIN:DAYLIGHT
TZOFFSETFROM:+0100
TZOFFSETTO:+0200
TZNAME:CEST
DTSTART:20190331T010000
END:DAYLIGHT
BEGIN:STANDARD
TZOFFSETFROM:+0200
TZOFFSETTO:+0100
TZNAME:CET
DTSTART:20191027T010000
END:STANDARD
END:VTIMEZONE
BEGIN:VEVENT
DTSTART;TZID=Europe/Rome:20191205T080000
DTEND;TZID=Europe/Rome:20191208T170000
DTSTAMP:20260420T041646
CREATED:20190903T140121Z
LAST-MODIFIED:20200203T164150Z
UID:8247-1575532800-1575824400@www.exibartstreet.com
SUMMARY:Miami Street Photography Festival 2019
DESCRIPTION:The MSPF is an international photography festival\, in partnership with HistoryMiami Museum\, showcasing the best of contemporary Street Photography viewed through the eyes of emerging photographers in this genre.  The goal of the Festival is to establish a global platform for learning through exhibitions\, workshops\, lectures\, and other events.\n﻿\n​This Festival is a collaborative effort to advance the work of photographers who pay attention to everyday life in order to capture the world around us.​ MSPF offers the best street photography workshops and larges exhibitions in the world. \nStreet photographers use their keen sense of observation to capture compelling candid moments in the everyday life of strangers\, whether it be a gesture\, facial expression\, action or scene. Their method is often likened to a mirror held up to society…it reflects reality. There is no set-up involved\, no manipulation of the scene and very little or no post-processing of the image. This realism has provided an accurate and insightful record of street culture throughout the world. With images portraying everything from the ugly\, gritty side of life to more humorous situations\, they are moments that unless captured\, might otherwise go unnoticed. \nAt the heart of street photography is the ‘decisive moment’. This is the split second when an image becomes complete in its composition – when each element of the image is in balance\, in context and essential to the scene. This is when the shutter is released and the moment is captured forever.﻿
URL:https://www.exibartstreet.com/event/miami-street-photography-festival/
LOCATION:HistoryMiami Museum\, 101 West Flagler Street\, Miami\, FL\, 33130\, United States
ATTACH;FMTTYPE=image/jpeg:https://www.exibartstreet.com/wp-content/uploads/2019/09/miami-street-photography-festival-exibart-street-photography-00.jpg
ORGANIZER;CN="Juan%20Jose%20Reyes":MAILTO:jjreyes@miamistreetphotographyfestival.org
END:VEVENT
END:VCALENDAR