BEGIN:VCALENDAR
VERSION:2.0
PRODID:-//Exibart Street - ECPv5.1.6//NONSGML v1.0//EN
CALSCALE:GREGORIAN
METHOD:PUBLISH
X-WR-CALNAME:Exibart Street
X-ORIGINAL-URL:https://www.exibartstreet.com
X-WR-CALDESC:Events for Exibart Street
BEGIN:VTIMEZONE
TZID:Europe/Rome
BEGIN:DAYLIGHT
TZOFFSETFROM:+0100
TZOFFSETTO:+0200
TZNAME:CEST
DTSTART:20200329T010000
END:DAYLIGHT
BEGIN:STANDARD
TZOFFSETFROM:+0200
TZOFFSETTO:+0100
TZNAME:CET
DTSTART:20201025T010000
END:STANDARD
END:VTIMEZONE
BEGIN:VEVENT
DTSTART;TZID=Europe/Rome:20201113T143000
DTEND;TZID=Europe/Rome:20201115T193000
DTSTAMP:20260419T210458
CREATED:20200203T170406Z
LAST-MODIFIED:20200622T144439Z
UID:45220-1605277800-1605468600@www.exibartstreet.com
SUMMARY:Paris\, Street Sans Frontieres 2020
DESCRIPTION:From November 13th to November 15th\, our collective will be back in Paris for the 2020 edition of Street Sans Frontières. The exhibition\, curated by Martin Vegas\, will be attended by 80 international photographers who showcase the best of contemporary street and documentary photography. Street Sans Frontières aims to give a wider view of what happens in the streets around us and explores the relationship between humans and their environment. From amateurs to established artists\, these photographers are able to capture stories in different forms and deliver them to us\, showing what happens in the streets of the world\, through the outstanding and inspiring images we are proud to share. \nThe 2020 edition of Street Sans Frontières will be held again at Galerie Joseph Turenne\, our space of 450m2 in the very heart of the Marais quarter in Paris. Le Marais is one of the coolest quarters and a dream place for art lovers. The French capital has a flourishing art scene\, and a walking tour through the Marais district provides an exciting glimpse of some of the best art galleries.
URL:https://www.exibartstreet.com/event/paris-street-sans-frontieres-2020/
LOCATION:Galerie Joseph Turenne\, 116\, Rue de Turenne\, Paris\, France
ATTACH;FMTTYPE=image/jpeg:https://www.exibartstreet.com/wp-content/uploads/2020/02/street-sans-frontieres-2020.jpg
END:VEVENT
END:VCALENDAR