BEGIN:VCALENDAR
VERSION:2.0
PRODID:-//Exibart Street - ECPv5.1.6//NONSGML v1.0//EN
CALSCALE:GREGORIAN
METHOD:PUBLISH
X-WR-CALNAME:Exibart Street
X-ORIGINAL-URL:https://www.exibartstreet.com
X-WR-CALDESC:Events for Exibart Street
BEGIN:VTIMEZONE
TZID:Europe/Rome
BEGIN:DAYLIGHT
TZOFFSETFROM:+0100
TZOFFSETTO:+0200
TZNAME:CEST
DTSTART:20210328T010000
END:DAYLIGHT
BEGIN:STANDARD
TZOFFSETFROM:+0200
TZOFFSETTO:+0100
TZNAME:CET
DTSTART:20211031T010000
END:STANDARD
END:VTIMEZONE
BEGIN:VEVENT
DTSTART;TZID=Europe/Rome:20210423T080000
DTEND;TZID=Europe/Rome:20210425T170000
DTSTAMP:20260420T022208
CREATED:20210409T201931Z
LAST-MODIFIED:20210409T201956Z
UID:54596-1619164800-1619370000@www.exibartstreet.com
SUMMARY:Italian Street Photo Festival 2021
DESCRIPTION:Ready to experience Italian Street Photo Festival’s 4rd edition at home?\nSit back and enjoy\, the show is about to start. \nWe will “infect” you with our creativity and enthusiasm and together\, along with all of you\, we will overcome this hurdle. \nThank you!
URL:https://www.exibartstreet.com/event/italian-street-photo-festival-2021/
LOCATION:FL
ATTACH;FMTTYPE=image/jpeg:https://www.exibartstreet.com/wp-content/uploads/2021/04/ispf-2021-exibart-street-photography-00.jpg
ORGANIZER;CN="Officine%20Fotografiche%20Roma":MAILTO:info@italianstreetphotofestival.com
END:VEVENT
END:VCALENDAR