BEGIN:VCALENDAR
VERSION:2.0
PRODID:-//Exibart Street - ECPv5.1.6//NONSGML v1.0//EN
CALSCALE:GREGORIAN
METHOD:PUBLISH
X-WR-CALNAME:Exibart Street
X-ORIGINAL-URL:https://www.exibartstreet.com
X-WR-CALDESC:Events for Exibart Street
BEGIN:VTIMEZONE
TZID:Europe/Rome
BEGIN:DAYLIGHT
TZOFFSETFROM:+0100
TZOFFSETTO:+0200
TZNAME:CEST
DTSTART:20210328T010000
END:DAYLIGHT
BEGIN:STANDARD
TZOFFSETFROM:+0200
TZOFFSETTO:+0100
TZNAME:CET
DTSTART:20211031T010000
END:STANDARD
END:VTIMEZONE
BEGIN:VEVENT
DTSTART;TZID=Europe/Rome:20210528T080000
DTEND;TZID=Europe/Rome:20210530T170000
DTSTAMP:20260420T035658
CREATED:20210409T201333Z
LAST-MODIFIED:20210409T201333Z
UID:54593-1622188800-1622394000@www.exibartstreet.com
SUMMARY:Bangkok Street Photography Festival 2021
DESCRIPTION:“Because the charm of the city lies in its streets” was the phrase that led us to the launch of Street Photo Thailand in 2013. \n4 years later we feel grateful in discovering that the streets of Bangkok is more than just a tourist destination with nice sightseeing. It is where fresh creative world-class street photography is produced on daily basis and the hidden charm of our city has come to light. \nExtending such charm\, today we are excited to announce The Bangkok Street Photography Festival 2021. Bringing together the world of street photography to share in our vision and to connect with our local photographers.
URL:https://www.exibartstreet.com/event/bangkok-street-photography-festival-2021/
LOCATION:FL
ATTACH;FMTTYPE=image/jpeg:https://www.exibartstreet.com/wp-content/uploads/2021/04/bangkok-street-photography-festival-2021-exibart-street-photography-00.jpg
ORGANIZER;CN="Street%20Photo%20Thailand":MAILTO:bkkspf@gmail.com
END:VEVENT
END:VCALENDAR